BEGIN:VCALENDAR
VERSION:2.0
PRODID:-//Friends of the Columbia Gorge - ECPv6.11.2.1//NONSGML v1.0//EN
CALSCALE:GREGORIAN
METHOD:PUBLISH
X-WR-CALNAME:Friends of the Columbia Gorge
X-ORIGINAL-URL:https://gorgefriends.org
X-WR-CALDESC:Events for Friends of the Columbia Gorge
REFRESH-INTERVAL;VALUE=DURATION:PT1H
X-Robots-Tag:noindex
X-PUBLISHED-TTL:PT1H
BEGIN:VTIMEZONE
TZID:America/Los_Angeles
BEGIN:DAYLIGHT
TZOFFSETFROM:-0800
TZOFFSETTO:-0700
TZNAME:PDT
DTSTART:20260308T100000
END:DAYLIGHT
BEGIN:STANDARD
TZOFFSETFROM:-0700
TZOFFSETTO:-0800
TZNAME:PST
DTSTART:20261101T090000
END:STANDARD
END:VTIMEZONE
BEGIN:VEVENT
DTSTART;TZID=America/Los_Angeles:20260421T090000
DTEND;TZID=America/Los_Angeles:20260421T130000
DTSTAMP:20260419T110329
CREATED:20260406T215246Z
LAST-MODIFIED:20260413T164317Z
UID:10000052-1776762000-1776776400@gorgefriends.org
SUMMARY:Steamboat Landing to Steigerwald Dog-Friendly Walk
DESCRIPTION:Join Hike Leader and dog lover\, Don McCoy\, for a hike at Steamboat Landing in Washougal!\nModerate: 8.2 miles | 300-ft elev. gain
URL:https://gorgefriends.org/event/steamboat-landing-to-steigerwald-dog-friendly-walk/
CATEGORIES:Guided Outings & Hikes
ATTACH;FMTTYPE=image/png:https://gorgefriends.org/wp-content/uploads/2026/04/dogs.png
END:VEVENT
BEGIN:VEVENT
DTSTART;TZID=America/Los_Angeles:20260423T093000
DTEND;TZID=America/Los_Angeles:20260423T153000
DTSTAMP:20260419T110329
CREATED:20260413T164302Z
LAST-MODIFIED:20260413T183117Z
UID:10000053-1776936600-1776958200@gorgefriends.org
SUMMARY:Spring Wildflowers Hike at Four Sisters Natural Area & Mill Creek Ridge Preserve
DESCRIPTION:Join hike leader Steve Carples for a wildflower-filled day visiting Four Sisters Natural Area and Mill Creek Ridge\, two Columbia Land Trust properties above The Dalles.\nModerate: 5.5 miles | 600-ft. elev. gain
URL:https://gorgefriends.org/event/spring-wildflowers-hike-at-four-sisters-natural-area-mill-creek-ridge-preserve/
CATEGORIES:Guided Outings & Hikes
ATTACH;FMTTYPE=image/png:https://gorgefriends.org/wp-content/uploads/2026/04/P1010285.png
END:VEVENT
BEGIN:VEVENT
DTSTART;TZID=America/Los_Angeles:20260425T100000
DTEND;TZID=America/Los_Angeles:20260425T130000
DTSTAMP:20260419T110329
CREATED:20260413T164215Z
LAST-MODIFIED:20260413T182209Z
UID:10000056-1777111200-1777122000@gorgefriends.org
SUMMARY:Swale Canyon Bike Ride - Celebrate Trails Day with Klickitat Trail Conservancy
DESCRIPTION:Join Friends Hike Leader/ Klickitat Trail Conservancy president Ken Hansen on a 8-mile mostly downhill bike ride from the Pitt trailhead to the Lyle trailhead\, a portion of the “Rails to Trails” route.\nBike Ride Difficulty level: Easy 8 miles | ~220 feet- elevation gain.
URL:https://gorgefriends.org/event/swayle-canyon-bike-ride-with-the-klickitat-trail-conservancy/
CATEGORIES:Guided Outings & Hikes
ATTACH;FMTTYPE=image/jpeg:https://gorgefriends.org/wp-content/uploads/2026/04/swale-canyon-jpg.webp
END:VEVENT
BEGIN:VEVENT
DTSTART;TZID=America/Los_Angeles:20260426T100000
DTEND;TZID=America/Los_Angeles:20260426T133000
DTSTAMP:20260419T110329
CREATED:20260413T164157Z
LAST-MODIFIED:20260413T182039Z
UID:10000057-1777197600-1777210200@gorgefriends.org
SUMMARY:Spring Wildflowers & Discovery Loop Hike at Lyle Cherry Orchard
DESCRIPTION:Join Friends Board Member and local naturalist Jayson Moorman for a hike at Friends’ Lyle Cherry Orchard Preserve. \nStrenuous: 4.5 miles | 1\,200-ft. elev. gain
URL:https://gorgefriends.org/event/spring-wildflowers-at-lyle-cherry-orchard-2/
CATEGORIES:Guided Outings & Hikes
ATTACH;FMTTYPE=image/jpeg:https://gorgefriends.org/wp-content/uploads/2026/04/Untitled-design-4-jpg.webp
END:VEVENT
BEGIN:VEVENT
DTSTART;TZID=America/Los_Angeles:20260428T103000
DTEND;TZID=America/Los_Angeles:20260428T133000
DTSTAMP:20260419T110329
CREATED:20260413T164134Z
LAST-MODIFIED:20260413T182725Z
UID:10000058-1777372200-1777383000@gorgefriends.org
SUMMARY:Advocacy Walk & Talk at Steigerwald Lake National Wildlife Refuge
DESCRIPTION:Join Renee Tkach (Friends’ Conservation Director) and Madison Kenney (Friends’ Advocacy & Policy Coordinator) for a hike at Stiegerwald Lake National Wildlife Refuge.\nEasy: 3 miles – Refuge River Trail
URL:https://gorgefriends.org/event/advocacy-walk-talk-at-steigerwald-lake-national-wildlife-refuge/
CATEGORIES:Guided Outings & Hikes
ATTACH;FMTTYPE=image/jpeg:https://gorgefriends.org/wp-content/uploads/2026/04/untitled-6155.jpg
END:VEVENT
END:VCALENDAR