BEGIN:VCALENDAR
VERSION:2.0
PRODID:-//Friends of the Columbia Gorge - ECPv6.11.2.1//NONSGML v1.0//EN
CALSCALE:GREGORIAN
METHOD:PUBLISH
X-ORIGINAL-URL:https://gorgefriends.org
X-WR-CALDESC:Events for Friends of the Columbia Gorge
REFRESH-INTERVAL;VALUE=DURATION:PT1H
X-Robots-Tag:noindex
X-PUBLISHED-TTL:PT1H
BEGIN:VTIMEZONE
TZID:America/Los_Angeles
BEGIN:DAYLIGHT
TZOFFSETFROM:-0800
TZOFFSETTO:-0700
TZNAME:PDT
DTSTART:20250309T100000
END:DAYLIGHT
BEGIN:STANDARD
TZOFFSETFROM:-0700
TZOFFSETTO:-0800
TZNAME:PST
DTSTART:20251102T090000
END:STANDARD
END:VTIMEZONE
BEGIN:VEVENT
DTSTART;TZID=America/Los_Angeles:20251025T100000
DTEND;TZID=America/Los_Angeles:20251025T160000
DTSTAMP:20260422T163504
CREATED:20251003T142738Z
LAST-MODIFIED:20251003T192954Z
UID:10000040-1761386400-1761408000@gorgefriends.org
SUMMARY:Fall Hike on the Cape Horn Trail
DESCRIPTION:Join Outdoor Guide & Friends Board Member Jayson Moorman for a scenic loop hike on the Cape Horn Trail.\nStrenuous: 7.2 miles | 1300-ft elev. Gain
URL:https://gorgefriends.org/event/fall-hike-on-the-cape-horn-trail/
CATEGORIES:Guided Outings & Hikes
ATTACH;FMTTYPE=image/jpeg:https://gorgefriends.org/wp-content/uploads/2025/10/P1010182-3-jpg.webp
END:VEVENT
END:VCALENDAR