BEGIN:VCALENDAR
VERSION:2.0
PRODID:-//Friends of the Columbia Gorge - ECPv6.11.2.1//NONSGML v1.0//EN
CALSCALE:GREGORIAN
METHOD:PUBLISH
X-ORIGINAL-URL:https://gorgefriends.org
X-WR-CALDESC:Events for Friends of the Columbia Gorge
REFRESH-INTERVAL;VALUE=DURATION:PT1H
X-Robots-Tag:noindex
X-PUBLISHED-TTL:PT1H
BEGIN:VTIMEZONE
TZID:America/Los_Angeles
BEGIN:DAYLIGHT
TZOFFSETFROM:-0800
TZOFFSETTO:-0700
TZNAME:PDT
DTSTART:20250309T100000
END:DAYLIGHT
BEGIN:STANDARD
TZOFFSETFROM:-0700
TZOFFSETTO:-0800
TZNAME:PST
DTSTART:20251102T090000
END:STANDARD
END:VTIMEZONE
BEGIN:VEVENT
DTSTART;TZID=America/Los_Angeles:20250505T100000
DTEND;TZID=America/Los_Angeles:20250505T120000
DTSTAMP:20260422T221804
CREATED:20250430T223216Z
LAST-MODIFIED:20250501T161253Z
UID:10000011-1746439200-1746446400@gorgefriends.org
SUMMARY:Sams Walker Interpretive Walk plus optional Beacon Rock Hike (Easy)
DESCRIPTION:Difficulty level: Easy: 2.2 mile loop | 600-ft elev. Gain\nJoin Friends hike leader and master naturalist Sharon Ross\, co-leader Sandy Haigh\, director of the Center for Ecodynamic Restoration\, and hike shepherd Rebecca Erickson.\nRegister here.
URL:https://gorgefriends.org/event/sams-walker-interpretive-walk-plus-optional-beacon-rock-hike-easy/
ATTACH;FMTTYPE=image/jpeg:https://gorgefriends.org/wp-content/uploads/2025/04/Image-13-jpg.webp
END:VEVENT
END:VCALENDAR